BEGIN:VCALENDAR
VERSION:2.0
PRODID:-//ChamberMaster//Event Calendar 2.0//EN
METHOD:PUBLISH
X-PUBLISHED-TTL:P3D
REFRESH-INTERVAL:P3D
CALSCALE:GREGORIAN
BEGIN:VEVENT
DTSTART:20140206T190000Z
DTEND:20140206T230000Z
X-MICROSOFT-CDO-ALLDAYEVENT:FALSE
SUMMARY:Leadership Mitchell: Volunteerism & Boardmanship
DESCRIPTION:The 2014 Leadership Mitchell class will be learning about Volunteerism & Boardmanship.  Daryl Kilstrom and Alisha Vincent will be sharing their expertise on volunteering in the community and serving on boards.  The class will then have the opportunity to meet with various community service organizations from the area. This event is only open to those enrolled in the 2014 Leadership Mitchell program.
X-ALT-DESC;FMTTYPE=text/html:The 2014 Leadership Mitchell class will be learning about Volunteerism &amp\; Boardmanship.&nbsp\; Daryl Kilstrom and Alisha Vincent will be sharing their expertise on volunteering in the community and serving on boards.&nbsp\; The class will then have the opportunity to meet with various community service organizations from the area. This event is only open to those enrolled in the 2014 Leadership Mitchell program.
LOCATION:Blarney's
UID:e.1624.1088
SEQUENCE:3
DTSTAMP:20260421T235205Z
URL:https://business.mitchellchamber.com/events/details/leadership-mitchell-volunteerism-boardmanship-02-06-2014-1088
END:VEVENT

END:VCALENDAR
