BEGIN:VCALENDAR
VERSION:2.0
PRODID:-//ChamberMaster//Event Calendar 2.0//EN
METHOD:PUBLISH
X-PUBLISHED-TTL:P3D
REFRESH-INTERVAL:P3D
CALSCALE:GREGORIAN
BEGIN:VEVENT
DTSTART:20140220T190000Z
DTEND:20140220T230000Z
X-MICROSOFT-CDO-ALLDAYEVENT:FALSE
SUMMARY:Leadership Mitchell: Public Safety
DESCRIPTION:The 2014 Leadership Mitchell class is meeting at the Public Safety building to learn about operations of the Police\, Fire\, and Communications departments.  Chief Lyndon Overweg and Assistant Fire Chief Paul Morris will be sharing information on how their departments keep the Mitchell community safe.  This event is only open to those enrolled in the 2014 Leadership Mitchell program.
X-ALT-DESC;FMTTYPE=text/html:The 2014 Leadership Mitchell class is meeting at the Public Safety building to learn about operations of the Police\, Fire\, and Communications departments.&nbsp\; Chief Lyndon Overweg and Assistant Fire Chief Paul Morris will be sharing information on how their departments keep the Mitchell community safe.&nbsp\; This event is only open to those enrolled in the 2014 Leadership Mitchell program.
LOCATION:Public Safety Building
UID:e.1624.1089
SEQUENCE:3
DTSTAMP:20260421T235015Z
URL:https://business.mitchellchamber.com/events/details/leadership-mitchell-public-safety-02-20-2014-1089
END:VEVENT

END:VCALENDAR
