BEGIN:VCALENDAR
VERSION:2.0
PRODID:-//ChamberMaster//Event Calendar 2.0//EN
METHOD:PUBLISH
X-PUBLISHED-TTL:P3D
REFRESH-INTERVAL:P3D
CALSCALE:GREGORIAN
BEGIN:VEVENT
DTSTART:20140515T180000Z
DTEND:20140515T220000Z
X-MICROSOFT-CDO-ALLDAYEVENT:FALSE
SUMMARY:Leadership Mitchell: Personal and Community Leadership
DESCRIPTION:The 2014 Leadership Mitchell class will be learning about Personal and Community Leadership.  The class will be hearing from Bryan Hisel\, Executive Director of the Mitchell Chamber of Commerce and Mitchell Area Development Corporation.  This event is only open to those enrolled in the 2014 Leadership Mitchell program.
X-ALT-DESC;FMTTYPE=text/html:The 2014 Leadership Mitchell class will be learning about Personal and Community Leadership.&nbsp\; The class will be hearing from Bryan Hisel\, Executive Director of the Mitchell Chamber of Commerce and Mitchell Area Development Corporation.&nbsp\; This event is only open to those enrolled in the 2014 Leadership Mitchell program.
LOCATION:First Dakota Bank
UID:e.1624.1095
SEQUENCE:3
DTSTAMP:20260421T184309Z
URL:https://business.mitchellchamber.com/events/details/leadership-mitchell-personal-and-community-leadership-05-15-2014-1095
END:VEVENT

END:VCALENDAR
