BEGIN:VCALENDAR
VERSION:2.0
PRODID:-//ChamberMaster//Event Calendar 2.0//EN
METHOD:PUBLISH
X-PUBLISHED-TTL:P3D
REFRESH-INTERVAL:P3D
CALSCALE:GREGORIAN
BEGIN:VEVENT
DTSTART:20140109T190000Z
DTEND:20140109T230000Z
X-MICROSOFT-CDO-ALLDAYEVENT:FALSE
SUMMARY:Leadership Mitchell: Orientation & Program Overview
DESCRIPTION:The 2014 Leadership Mitchell class is meeting for Orientation and Program Overview.  This event is only open to those enrolled in the 2014 Leadership Mitchell program.
X-ALT-DESC;FMTTYPE=text/html:The 2014 Leadership Mitchell class is meeting for Orientation and Program Overview.&nbsp\; This event is only open to those enrolled in the 2014 Leadership Mitchell program.
LOCATION:First Dakota Bank
UID:e.1624.1086
SEQUENCE:3
DTSTAMP:20260422T013724Z
URL:https://business.mitchellchamber.com/events/details/leadership-mitchell-orientation-program-overview-01-09-2014-1086
END:VEVENT

END:VCALENDAR
