BEGIN:VCALENDAR
VERSION:2.0
PRODID:-//ChamberMaster//Event Calendar 2.0//EN
METHOD:PUBLISH
X-PUBLISHED-TTL:P3D
REFRESH-INTERVAL:P3D
CALSCALE:GREGORIAN
BEGIN:VEVENT
DTSTART:20140501T180000Z
DTEND:20140501T220000Z
X-MICROSOFT-CDO-ALLDAYEVENT:FALSE
SUMMARY:Leadership Mitchell: Mitchell Attractions
DESCRIPTION:The 2014 Leadership Mitchell class will be visiting all the major attractions in Mitchell.  Representatives from the Mitchell Convention and Visitors Bureau will bring the class to the Corn Palace\, Carnegie Resource Center\, Prehistoric Indian Village\, Dakota Discovery Museum\, McGovern Legacy Museum\, and the Mitchell Visitor Information Center.  This event is only open to those enrolled in the 2014 Leadership Mitchell program.
X-ALT-DESC;FMTTYPE=text/html:The 2014 Leadership Mitchell class will be visiting all the major attractions in Mitchell.&nbsp\; Representatives from the Mitchell Convention and Visitors Bureau will bring the class to the Corn Palace\, Carnegie Resource Center\, Prehistoric Indian Village\, Dakota Discovery Museum\, McGovern Legacy Museum\, and the Mitchell Visitor Information Center.&nbsp\; This event is only open to those enrolled in the 2014 Leadership Mitchell program.
LOCATION:Mitchell Attractions
UID:e.1624.1094
SEQUENCE:3
DTSTAMP:20260421T184001Z
URL:https://business.mitchellchamber.com/events/details/leadership-mitchell-mitchell-attractions-05-01-2014-1094
END:VEVENT

END:VCALENDAR
