BEGIN:VCALENDAR
VERSION:2.0
PRODID:-//ChamberMaster//Event Calendar 2.0//EN
METHOD:PUBLISH
X-PUBLISHED-TTL:P3D
REFRESH-INTERVAL:P3D
CALSCALE:GREGORIAN
BEGIN:VEVENT
DTSTART:20140417T180000Z
DTEND:20140417T220000Z
X-MICROSOFT-CDO-ALLDAYEVENT:FALSE
SUMMARY:Leadership Mitchell: Health Care
DESCRIPTION:The 2014 Leadership Mitchell class will learn about health care facilities and resources in Mitchell.  A team from Avera Queen of Peace Hospital will discuss health care issues and what their facility offers community members.  The class will also have the opportunity to tour the facility.  This event is only open to those enrolled in the 2014 Leadership Mitchell program.
X-ALT-DESC;FMTTYPE=text/html:The 2014 Leadership Mitchell class will learn about health care facilities and resources in Mitchell.&nbsp\; A team from Avera Queen of Peace Hospital will discuss health care issues and what their facility offers community members.&nbsp\; The class will also have the opportunity to tour the facility.&nbsp\; This event is only open to those enrolled in the 2014 Leadership Mitchell program.
LOCATION:Avera Queen of Peace Hospital
UID:e.1624.1093
SEQUENCE:3
DTSTAMP:20260421T202220Z
URL:https://business.mitchellchamber.com/events/details/leadership-mitchell-health-care-04-17-2014-1093
END:VEVENT

END:VCALENDAR
