BEGIN:VCALENDAR
VERSION:2.0
PRODID:-//ChamberMaster//Event Calendar 2.0//EN
METHOD:PUBLISH
X-PUBLISHED-TTL:P3D
REFRESH-INTERVAL:P3D
CALSCALE:GREGORIAN
BEGIN:VEVENT
DTSTART:20140515T220000Z
DTEND:20140516T000000Z
X-MICROSOFT-CDO-ALLDAYEVENT:FALSE
SUMMARY:Leadership Mitchell Commencement Ceremony
DESCRIPTION:Exclusive to the participant and business sponsors of the Leadership Mitchell Class of 2014.  This is a plated dinner and commencement ceremony for those completing the requirements of the Leadership Mitchell program.
X-ALT-DESC;FMTTYPE=text/html:Exclusive to the participant and business sponsors of the Leadership Mitchell Class of 2014.&nbsp\; This is a plated dinner and commencement ceremony for those completing the requirements of the Leadership Mitchell program.
LOCATION:Highland Conference Center
UID:e.1624.1158
SEQUENCE:3
DTSTAMP:20260421T184210Z
URL:https://business.mitchellchamber.com/events/details/leadership-mitchell-commencement-ceremony-05-15-2014-1158
END:VEVENT

END:VCALENDAR
