BEGIN:VCALENDAR
VERSION:2.0
PRODID:-//ChamberMaster//Event Calendar 2.0//EN
METHOD:PUBLISH
X-PUBLISHED-TTL:P3D
REFRESH-INTERVAL:P3D
CALSCALE:GREGORIAN
BEGIN:VEVENT
DTSTART:20140306T190000Z
DTEND:20140306T230000Z
X-MICROSOFT-CDO-ALLDAYEVENT:FALSE
SUMMARY:Leadership Mitchell: City & County Government
DESCRIPTION:The 2014 Leadership Mitchell class is learning about the functions of both City and County Government.  The class will meet at City Hall for a presentation from Neil Putnam and hear from Mayor Ken Tracy as well as City Council President Jeff Smith.  The class will then travel to the Courthouse to hear from County Commissioner John Claggett and Auditor Susan Kiepke.  This event is only open to those enrolled in the 2014 Leadership Mitchell program.
X-ALT-DESC;FMTTYPE=text/html:The 2014 Leadership Mitchell class is learning about the functions of both City and County Government.&nbsp\; The class will meet at City Hall for a presentation from Neil Putnam and hear from Mayor Ken Tracy as well as City Council President Jeff Smith.&nbsp\; The class will then travel to the Courthouse to hear from County Commissioner John Claggett and Auditor Susan Kiepke.&nbsp\; This event is only open to those enrolled in the 2014 Leadership Mitchell program.
LOCATION:City Hall and the County Courthouse
UID:e.1624.1090
SEQUENCE:3
DTSTAMP:20260421T221339Z
URL:https://business.mitchellchamber.com/events/details/leadership-mitchell-city-county-government-03-06-2014-1090
END:VEVENT

END:VCALENDAR
