BEGIN:VCALENDAR
VERSION:2.0
PRODID:-//ChamberMaster//Event Calendar 2.0//EN
METHOD:PUBLISH
X-PUBLISHED-TTL:P3D
REFRESH-INTERVAL:P3D
CALSCALE:GREGORIAN
BEGIN:VEVENT
DTSTART:20140320T180000Z
DTEND:20140320T220000Z
X-MICROSOFT-CDO-ALLDAYEVENT:FALSE
SUMMARY:Leadership Mitchell: Business & Industry
DESCRIPTION:The 2014 Leadership Mitchell class will learn about local businesses and industry impact to Mitchell.  The class will visit Logan Luxury Theatres and hear from Jeff Logan\, Cabela's and hear from Mike Fox\, and Trail King and hear from Bruce Yakley. This event is only open to those enrolled in the 2014 Leadership Mitchell program.
X-ALT-DESC;FMTTYPE=text/html:The 2014 Leadership Mitchell class will learn about local businesses and industry impact to Mitchell.&nbsp\; The class will visit Logan Luxury Theatres and hear from Jeff Logan\, Cabela&#39\;s and hear from Mike Fox\, and Trail King and hear from Bruce Yakley. This event is only open to those enrolled in the 2014 Leadership Mitchell program.
LOCATION:Logan Luxury Theatres\, Cabela's\, and Trail King
UID:e.1624.1091
SEQUENCE:3
DTSTAMP:20260421T221253Z
URL:https://business.mitchellchamber.com/events/details/leadership-mitchell-business-industry-03-20-2014-1091
END:VEVENT

END:VCALENDAR
