BEGIN:VCALENDAR
VERSION:2.0
PRODID:-//ChamberMaster//Event Calendar 2.0//EN
METHOD:PUBLISH
X-PUBLISHED-TTL:P3D
REFRESH-INTERVAL:P3D
CALSCALE:GREGORIAN
BEGIN:VEVENT
DTSTART:20140403T180000Z
DTEND:20140403T220000Z
X-MICROSOFT-CDO-ALLDAYEVENT:FALSE
SUMMARY:Leadership Mitchell: Area Education
DESCRIPTION:The 2014 Leadership Mitchell class will be learning about the various education systems in the Mitchell community.  This will be a panel discussion including Dr. Graves of the Mitchell Public Schools\, Dr. Greg Von Wald from Mitchell Technical Institute\, Amy Novak from Dakota Wesleyan University\, and Rev. Joseph Fox from Mitchell Christian Schools.  This event is only open to those enrolled in the 2014 Leadership Mitchell program.
X-ALT-DESC;FMTTYPE=text/html:The 2014 Leadership Mitchell class will be learning about the various education systems in the Mitchell community.&nbsp\; This will be a panel discussion including Dr. Graves of the Mitchell Public Schools\, Dr. Greg Von Wald from Mitchell Technical Institute\, Amy Novak from Dakota Wesleyan University\, and Rev. Joseph Fox from Mitchell Christian Schools.&nbsp\; This event is only open to those enrolled in the 2014 Leadership Mitchell program.
LOCATION:Mitchell Technical Institute
UID:e.1624.1092
SEQUENCE:3
DTSTAMP:20260421T202029Z
URL:https://business.mitchellchamber.com/events/details/leadership-mitchell-area-education-04-03-2014-1092
END:VEVENT

END:VCALENDAR
