BEGIN:VCALENDAR
VERSION:2.0
PRODID:-//ChamberMaster//Event Calendar 2.0//EN
METHOD:PUBLISH
X-PUBLISHED-TTL:P3D
REFRESH-INTERVAL:P3D
CALSCALE:GREGORIAN
BEGIN:VEVENT
DTSTART:20240321T133000Z
DTEND:20240321T210000Z
X-MICROSOFT-CDO-ALLDAYEVENT:FALSE
SUMMARY:Leadership Mitchell
DESCRIPTION:The Government Affairs Committee of the Mitchell Area Chamber of Commerce will be hosting the Leadership Mitchell program\, beginning in Sept. '23 and ending in May '24. \n\n\n\nLeadership Mitchell is a program dedicated to supporting the highest quality of leadership preparation for individuals\, with particular emphasis on personal and professional leadership skills. It is designed to prepare participants for future service and leadership\, help existing leaders sharpen their skills and motivate them to take an active role in community affairs. The program focuses on civic\, governmental\, business and industry leader challenges in the Mitchell area.     \n\n\n\nTentative Class Sessions: \n\n	Orientation & Program Overview - Sept. 21\, 2023\n	Personal Leadership - Oct. 19\, 2023\n	Agriculture - Nov. 16\, 2023\n	Business\, Industry & City/County Government - Jan. 18\, 2024\n	State Government & Legislative Session - Feb. 15\, 2024\n	Technology\, Education & Boardmanship - March 21\, 2024\n	Public Safety & Healthcare - April 18\, 2024\n	Area Attractions & Non-Profits - May 16\, 2024\n	Commencement - May 30\, 2024
X-ALT-DESC;FMTTYPE=text/html:The Government Affairs Committee of the Mitchell Area Chamber of Commerce will be hosting the Leadership Mitchell program\, beginning in Sept. &#39\;23 and ending in May &#39\;24.&nbsp\;<br />\n<br />\nLeadership Mitchell is a program dedicated to supporting the highest quality of leadership preparation for individuals\, with particular emphasis on personal and professional leadership skills. It is designed to prepare participants for future service and leadership\, help existing leaders sharpen their skills and motivate them to take an active role in community affairs. The program focuses on civic\, governmental\, business and industry leader challenges in the Mitchell area.&nbsp\;&nbsp\;&nbsp\;&nbsp\;&nbsp\;<br />\n<br />\nTentative Class Sessions:&nbsp\;\n<ul>\n	<li>Orientation &amp\; Program Overview - Sept. 21\, 2023</li>\n	<li>Personal Leadership - Oct. 19\, 2023</li>\n	<li>Agriculture&nbsp\;- Nov. 16\, 2023</li>\n	<li>Business\, Industry &amp\; City/County Government - Jan. 18\, 2024</li>\n	<li>State Government &amp\; Legislative Session - Feb. 15\, 2024</li>\n	<li>Technology\, Education &amp\; Boardmanship - March 21\, 2024</li>\n	<li>Public Safety &amp\; Healthcare - April 18\, 2024</li>\n	<li>Area Attractions &amp\; Non-Profits - May 16\, 2024</li>\n	<li>Commencement - May 30\, 2024</li>\n</ul>\n
LOCATION:Chamber of Commerce & Various Mitchell Businesses
UID:e.1624.34653
SEQUENCE:3
DTSTAMP:20260420T104708Z
URL:https://business.mitchellchamber.com/events/details/leadership-mitchell-34653
END:VEVENT

END:VCALENDAR
