BEGIN:VCALENDAR
VERSION:2.0
PRODID:-//ChamberMaster//Event Calendar 2.0//EN
METHOD:PUBLISH
X-PUBLISHED-TTL:P3D
REFRESH-INTERVAL:P3D
CALSCALE:GREGORIAN
BEGIN:VEVENT
DTSTART:20190119T190000Z
DTEND:20190119T220000Z
X-MICROSOFT-CDO-ALLDAYEVENT:FALSE
SUMMARY:Lakota Games on Ice at the Prehistoric Indian Village
DESCRIPTION:Lakota Games on Ice is the only event where you can learn and play the winter games of the Lakota. Join Mike Marshall\, Rosebud Lakota\, as he returns to teach the games played by his ancestors. The games are suitable for all ages and are the most fun you may have all winter! We serve hot chocolate after the games and the Museum will be open for tours. FREE ADMISSION!!
X-ALT-DESC;FMTTYPE=text/html:<span>Lakota Games on Ice is the only event where you can learn and play the winter games of the Lakota. Join Mike Marshall\, Rosebud Lakota\, as he returns to teach the games played by his ancestors. The games are suitable for all ages and are the most fun you may have all winter! We serve hot chocolate after the games and the Museum will be open for tours. FREE ADMISSION!!</span>
LOCATION:Mitchell Prehistoric Indian Village 3200 Indian Village Road Mitchell\, SD
UID:e.1624.21891
SEQUENCE:3
DTSTAMP:20260424T201956Z
URL:https://business.mitchellchamber.com/events/details/lakota-games-on-ice-at-the-prehistoric-indian-village-21891
END:VEVENT

END:VCALENDAR
