BEGIN:VCALENDAR
VERSION:2.0
PRODID:-//ChamberMaster//Event Calendar 2.0//EN
METHOD:PUBLISH
X-PUBLISHED-TTL:P3D
REFRESH-INTERVAL:P3D
CALSCALE:GREGORIAN
BEGIN:VEVENT
DTSTART:20240510T000000Z
DTEND:20240510T010000Z
X-MICROSOFT-CDO-ALLDAYEVENT:FALSE
SUMMARY:Lake Mitchell Informational Meeting
DESCRIPTION:Get ready for another Lake Mitchell Informational Meeting! Join us on May 9th at 7 PM in the City Council Chambers. Learn about the proposed dredging project and chat with city officials. Stay informed ahead of election day on June 4th! Don't miss out! Tune in live on the City of Mitchell's YouTube Channel or on Mitchell Telecom channel 90.
X-ALT-DESC;FMTTYPE=text/html:Get ready for another&nbsp\;Lake Mitchell Informational Meeting! Join us on May 9th at 7 PM in the City Council Chambers. Learn about the proposed dredging project and chat with city officials. Stay informed ahead of election day on June 4th! Don&#39\;t miss out! Tune in live on the City of Mitchell&#39\;s <a href="https://www.youtube.com/@CityofmitchellOrg612/streams">YouTube Channel</a> or on Mitchell Telecom channel 90.&nbsp\;
LOCATION:City Council Chambers 612 N Main St. Mitchell\, SD 57301
UID:e.1624.36362
SEQUENCE:3
DTSTAMP:20260420T081412Z
URL:https://business.mitchellchamber.com/events/details/lake-mitchell-informational-meeting-36362
END:VEVENT

END:VCALENDAR
