BEGIN:VCALENDAR
VERSION:2.0
PRODID:-//ChamberMaster//Event Calendar 2.0//EN
METHOD:PUBLISH
X-PUBLISHED-TTL:P3D
REFRESH-INTERVAL:P3D
CALSCALE:GREGORIAN
BEGIN:VEVENT
DTSTART:20230510T000000Z
DTEND:20230510T020000Z
X-MICROSOFT-CDO-ALLDAYEVENT:FALSE
SUMMARY:Lake Mitchell Informational Meeting
DESCRIPTION:Join us for a public meeting over Lake Mitchell on May 9th at The Corn Palace starting at 7 p.m. Updates will be shared on the clean-up project as well as information on the Lake Mitchell Initiated Measure\, which will be on the ballot on June 6th. Anyone is welcome to attend.
X-ALT-DESC;FMTTYPE=text/html:Join us for a public meeting over Lake Mitchell on May 9th at The Corn Palace starting at 7 p.m. Updates will be shared on the clean-up project as well as information on the Lake Mitchell Initiated Measure\, which will be on the ballot on June 6th. Anyone is welcome to attend.
LOCATION:The World's Only Corn Palace 604 N. Main Street Mitchell\, SD 57301
UID:e.1624.33228
SEQUENCE:3
DTSTAMP:20260421T085859Z
URL:https://business.mitchellchamber.com/events/details/lake-mitchell-informational-meeting-33228
END:VEVENT

END:VCALENDAR
