BEGIN:VCALENDAR
VERSION:2.0
PRODID:-//ChamberMaster//Event Calendar 2.0//EN
METHOD:PUBLISH
X-PUBLISHED-TTL:P3D
REFRESH-INTERVAL:P3D
CALSCALE:GREGORIAN
BEGIN:VEVENT
DTSTART:20231201T003000Z
DTEND:20231201T020000Z
X-MICROSOFT-CDO-ALLDAYEVENT:FALSE
SUMMARY:Ladies Night Out & Bike Maintenance Class
DESCRIPTION:Join us Thursday November 30 for a Ladies Night Out focused on proper Bike Maintenance along with a fix a flat class!\n\nThe class will discuss proper bike maintenance\, fit of your bicycle along with a fix a flat class when you find yourself out on the road! The cost of the class will be $35 with all proceeds to be donated to a local organization!\n\nAdditional instruction of proper tire pressures for all types of riding\, different styles of bikes for your riding needs and ways to ride throughout the winter months to keep you in riding shape!\n\nAlong with the class all ladies will receive special discounts in store along with a goodie bag with fix a flat kit which will includes tire levers\, an extra tube specifically for your bike\, patch kit and a CO2 tank! Other fun items to be included!\n\nSnacks and beverages will be provided!\n\nIt'll be the perfect time to stock up on Christmas gifts as well for the rider in your life!\n\nWe ask you to bring your bike to ensure proper fit and get you acquainted with your own wheels and tires for fixing a flat!
X-ALT-DESC;FMTTYPE=text/html:<div background-color:="" color:="" font-size:="" segoe="" ui="">Join us Thursday November 30 for a Ladies Night Out focused on proper Bike Maintenance along with a fix a flat class!</div>\n\n<div background-color:="" color:="" font-size:="" segoe="" ui="">The class will discuss proper bike maintenance\, fit of your bicycle along with a fix a flat class when you find yourself out on the road! The cost of the class will be $35 with all proceeds to be donated to a local organization!</div>\n\n<div background-color:="" color:="" font-size:="" segoe="" ui="">Additional instruction of proper tire pressures for all types of riding\, different styles of bikes for your riding needs and ways to ride throughout the winter months to keep you in riding shape!</div>\n\n<div background-color:="" color:="" font-size:="" segoe="" ui="">Along with the class all ladies will receive special discounts in store along with a goodie bag with fix a flat kit which will includes tire levers\, an extra tube specifically for your bike\, patch kit and a CO2 tank! Other fun items to be included!</div>\n\n<div background-color:="" color:="" font-size:="" segoe="" ui="">Snacks and beverages will be provided!</div>\n\n<div background-color:="" color:="" font-size:="" segoe="" ui="">It&rsquo\;ll be the perfect time to stock up on Christmas gifts as well for the rider in your life!</div>\n\n<div background-color:="" color:="" font-size:="" segoe="" ui="">We ask you to bring your bike to ensure proper fit and get you acquainted with your own wheels and tires for fixing a flat!</div>\n
LOCATION:Ron's Bike Shop 723 S Sanborn Mitchell\, SD 57301
UID:e.1624.35180
SEQUENCE:3
DTSTAMP:20260420T142134Z
URL:https://business.mitchellchamber.com/events/details/ladies-night-out-bike-maintenance-class-35180
END:VEVENT

END:VCALENDAR
