BEGIN:VCALENDAR
VERSION:2.0
PRODID:-//ChamberMaster//Event Calendar 2.0//EN
METHOD:PUBLISH
X-PUBLISHED-TTL:P3D
REFRESH-INTERVAL:P3D
CALSCALE:GREGORIAN
BEGIN:VEVENT
DTSTART:20180424T210000Z
DTEND:20180425T010000Z
X-MICROSOFT-CDO-ALLDAYEVENT:FALSE
SUMMARY:Ladies' Night Out
DESCRIPTION:Grab your girlfriends and join us for a fun evening in downtown Mitchell. Visit at least 8 of 19 participating businesses for your chance to win one of two prize packages\, valued at $250 each! Pick up your "Passport to Fun" at any participating business that evening.
X-ALT-DESC;FMTTYPE=text/html:<p style="box-sizing: border-box\; margin: 0px 0px 24px\; font-size: 18px\; line-height: 18px\; color: rgb(20\, 20\, 18)\; font-family: &quot\;Source Sans Pro&quot\;\, sans-serif\;">Grab your girlfriends and join us for a fun evening in downtown Mitchell. Visit at least 8 of 19 participating businesses for your chance to win one of two prize packages\, valued at $250 each! Pick up your &quot\;Passport to Fun&quot\; at any participating business that evening.&nbsp\;</p>\n
LOCATION:Participating businesses include: Adorn Boutique Bonnie's deKor Brown's Shoe Fit Co Cherrybee's Floral & Gifts Coborn's Cornerstone Coffee House County Fair Food Store Easy Come\, Easy Go Float Spa Karl's TV & Appliance Little Caesars Pizza Little Red Hen Logan Luxury Theaters Michael's Toggery Mueller Lumber Photography Unlimited Second Impression Palace Tickled Pink Boutique Woelfel Jewelry
UID:e.1624.15022
SEQUENCE:3
DTSTAMP:20260425T160346Z
URL:https://business.mitchellchamber.com/events/details/ladies-night-out-15022
END:VEVENT

END:VCALENDAR
