BEGIN:VCALENDAR
VERSION:2.0
PRODID:-//ChamberMaster//Event Calendar 2.0//EN
METHOD:PUBLISH
X-PUBLISHED-TTL:P3D
REFRESH-INTERVAL:P3D
CALSCALE:GREGORIAN
BEGIN:VEVENT
DTSTART:20240223T233000Z
DTEND:20240224T010000Z
X-MICROSOFT-CDO-ALLDAYEVENT:FALSE
SUMMARY:Knights of Columbus Fish Fry
DESCRIPTION:Come enjoy delicious hand-battered fish\, mac and cheese\, baked potato\, bun\, coleslaw\, and dessert. Drive-through is located on the south side of the school.
X-ALT-DESC;FMTTYPE=text/html:Come enjoy delicious hand-battered fish\, mac and cheese\, baked potato\, bun\, coleslaw\, and dessert. Drive-through is located on the south side of the school.
LOCATION:St. John Paul 2 School Gym 1510 W Elm Ave\, Mitchell SD
UID:e.1624.35901
SEQUENCE:3
DTSTAMP:20260420T161329Z
URL:https://business.mitchellchamber.com/events/details/knights-of-columbus-fish-fry-35901
END:VEVENT

END:VCALENDAR
