BEGIN:VCALENDAR
VERSION:2.0
PRODID:-//ChamberMaster//Event Calendar 2.0//EN
METHOD:PUBLISH
X-PUBLISHED-TTL:P3D
REFRESH-INTERVAL:P3D
CALSCALE:GREGORIAN
BEGIN:VEVENT
DTSTART:20180217T170000Z
DTEND:20180218T010000Z
X-MICROSOFT-CDO-ALLDAYEVENT:FALSE
SUMMARY:Kiwanis Spaghetti Feed
DESCRIPTION:All you can eat Spaghetti! Join us for our annual fundraiser. Kiwanis Club of Mitchell raises funds to help with youth projects. We support local youth teams\, we give 2 scholarships per year\, safety books to 4th graders and many more projects. One of our "namesake" projects is the Kiwanis woodlot Park near Lake Mitchell.
X-ALT-DESC;FMTTYPE=text/html:All you can eat Spaghetti! Join us for our annual fundraiser. Kiwanis Club of Mitchell raises funds to help with youth projects. We support local youth teams\, we give 2 scholarships per year\, safety books to 4th graders and many more projects. One of our &quot\;namesake&quot\; projects is the Kiwanis woodlot Park near Lake Mitchell.
LOCATION:John Paul II Cafeteria 1510 W Elm Mitchell\, SD 57301
UID:e.1624.9764
SEQUENCE:3
DTSTAMP:20260425T185502Z
URL:https://business.mitchellchamber.com/events/details/kiwanis-spaghetti-feed-02-17-2018-9764
END:VEVENT

END:VCALENDAR
