BEGIN:VCALENDAR
VERSION:2.0
PRODID:-//ChamberMaster//Event Calendar 2.0//EN
METHOD:PUBLISH
X-PUBLISHED-TTL:P3D
REFRESH-INTERVAL:P3D
CALSCALE:GREGORIAN
BEGIN:VEVENT
DTSTART:20240323T160000Z
DTEND:20240323T190000Z
X-MICROSOFT-CDO-ALLDAYEVENT:FALSE
SUMMARY:Kiwanis Spaghetti Dinner
DESCRIPTION:Kiwanis Club of Mitchell's Annual Spaghetti Dinner All you can eat spaghetti! Eat-in or curbside pickup available. Join us for our annual event and help us raise funds for our community projects. Kiwanis donates to these local causes each year: MSD Caring Closet CASA Salvation Army Big Friend Little Friend Academic Scholarships Youth park and rec ball teams Weekend Snack Pack Girls on the Run 4H and MORE!
X-ALT-DESC;FMTTYPE=text/html:Kiwanis Club of Mitchell&#39\;s Annual Spaghetti Dinner All you can eat spaghetti! Eat-in or curbside pickup available. Join us for our annual event and help us raise funds for our community projects. Kiwanis donates to these local causes each year: MSD Caring Closet CASA Salvation Army Big Friend Little Friend Academic Scholarships Youth park and rec ball teams Weekend Snack Pack Girls on the Run 4H and MORE!
LOCATION:Mitchell Technical College Campus Center Building 1800 E Spruce St. Mitchell\, SD 57301
UID:e.1624.35890
SEQUENCE:3
DTSTAMP:20260420T105052Z
URL:https://business.mitchellchamber.com/events/details/kiwanis-spaghetti-dinner-03-23-2024-35890
END:VEVENT

END:VCALENDAR
