BEGIN:VCALENDAR
VERSION:2.0
PRODID:-//ChamberMaster//Event Calendar 2.0//EN
METHOD:PUBLISH
X-PUBLISHED-TTL:P3D
REFRESH-INTERVAL:P3D
CALSCALE:GREGORIAN
BEGIN:VEVENT
DTSTART:20260326T220000Z
DTEND:20260327T010000Z
X-MICROSOFT-CDO-ALLDAYEVENT:FALSE
SUMMARY:Kindergarten Jumpstart
DESCRIPTION:Kindergarten Jumpstart   Mitchell School District 17-2   \n\nIs your child starting Kindergarten or Begindergarten in Fall 2026? Join Mitchell School District 17-2 for Kindergarten Jumpstart Information & Activity Nights!\n\n  Thursday\, March 26\n\n  Tuesday\, March 31\n\nStudents must be 5 years old on or before September 1 to enroll. Families are asked to attend one session and reserve a spot by calling their school. All children must attend with a parent or guardian.\n\n  L.B. Williams   (605) 995-3090\n\nTime Slots: 5:30 PM & 6:45 PM\n\n  Gertie Belle Rogers   (605) 995-3091\n\nTime Slots: 5:30 PM & 6:30 PM\n\n  Longfellow   (605) 995-3092\n\nTime Slots: 5:30 PM & 6:30 PM\n\nThis is a great opportunity to meet staff\, learn about the upcoming school year\, and help your future kindergartener feel excited and prepared for their big first day!
X-ALT-DESC;FMTTYPE=text/html:<p data-end="68" data-start="0">&#127822\;&#10024\; <strong data-end="62" data-start="4">Kindergarten Jumpstart &ndash\; Mitchell School District 17-2</strong> &#10024\;&#127822\;</p>\n\n<p data-end="236" data-start="70">Is your child starting Kindergarten or Begindergarten in Fall 2026? Join Mitchell School District 17-2 for <strong data-end="233" data-start="177">Kindergarten Jumpstart Information &amp\; Activity Nights</strong>!</p>\n\n<p data-end="292" data-start="238">&#128197\; <strong data-end="263" data-start="241">Thursday\, March 26</strong><br data-end="266" data-start="263" />\n&#128197\; <strong data-end="290" data-start="269">Tuesday\, March 31</strong></p>\n\n<p data-end="501" data-start="294">Students must be <strong data-end="351" data-start="311">5 years old on or before September 1</strong> to enroll. Families are asked to attend one session and reserve a spot by calling their school. All children must attend with a parent or guardian.</p>\n\n<p data-end="574" data-start="503">&#128205\; <strong data-end="523" data-start="506">L.B. Williams</strong> &ndash\; (605) 995-3090<br data-end="543" data-start="540" />\nTime Slots: 5:30 PM &amp\; 6:45 PM</p>\n\n<p data-end="653" data-start="576">&#128205\; <strong data-end="602" data-start="579">Gertie Belle Rogers</strong> &ndash\; (605) 995-3091<br data-end="622" data-start="619" />\nTime Slots: 5:30 PM &amp\; 6:30 PM</p>\n\n<p data-end="723" data-start="655">&#128205\; <strong data-end="672" data-start="658">Longfellow</strong> &ndash\; (605) 995-3092<br data-end="692" data-start="689" />\nTime Slots: 5:30 PM &amp\; 6:30 PM</p>\n\n<p data-end="897" data-is-last-node="" data-is-only-node="" data-start="725">This is a great opportunity to meet staff\, learn about the upcoming school year\, and help your future kindergartener feel excited and prepared for their big first day! &#127890\;&#128218\;</p>\n
LOCATION:L.B. Williams | 1420 W University Ave Gertie Belle Rogers | 1301 N Kimball St Longfellow | 110 N Mentzer St
UID:e.1624.42637
SEQUENCE:3
DTSTAMP:20260423T123226Z
URL:https://business.mitchellchamber.com/events/details/kindergarten-jumpstart-42637
END:VEVENT

END:VCALENDAR
