BEGIN:VCALENDAR
VERSION:2.0
PRODID:-//ChamberMaster//Event Calendar 2.0//EN
METHOD:PUBLISH
X-PUBLISHED-TTL:P3D
REFRESH-INTERVAL:P3D
CALSCALE:GREGORIAN
BEGIN:VEVENT
DTSTART:20240319T223000Z
DTEND:20240320T004500Z
X-MICROSOFT-CDO-ALLDAYEVENT:FALSE
SUMMARY:Kindergarten/Begindergarten Jumpstart for Mitchell School District 17-2
DESCRIPTION:Plan to attend one of our Jumpstart Information/Activity evenings in March if your child will be attending Kindergarten or Begindergarten in the Fall of 2024.
X-ALT-DESC;FMTTYPE=text/html:Plan to attend one of our Jumpstart Information/Activity evenings in March if your child will be attending Kindergarten or Begindergarten in the Fall of 2024.&nbsp\;
LOCATION:Gertie Belle Rogers Elementary School 1301 N Kimball St. Longfellow Elementary School 110 N Mentzer St. L.B. Williams 1420 W University
UID:e.1624.35897
SEQUENCE:3
DTSTAMP:20260420T105301Z
URL:https://business.mitchellchamber.com/events/details/kindergarten-begindergarten-jumpstart-for-mitchell-school-district-17-2-35897
END:VEVENT

END:VCALENDAR
