BEGIN:VCALENDAR
VERSION:2.0
PRODID:-//ChamberMaster//Event Calendar 2.0//EN
METHOD:PUBLISH
X-PUBLISHED-TTL:P3D
REFRESH-INTERVAL:P3D
CALSCALE:GREGORIAN
BEGIN:VEVENT
DTSTART:20150912T190000Z
DTEND:20150913T010000Z
X-MICROSOFT-CDO-ALLDAYEVENT:FALSE
SUMMARY:Keeping Our Focus
DESCRIPTION:"Keeping Our Focus"\n\n43rd Annual SDRTL Convention\n\n\n\nGuest Speakers:\n\nWesley J. Smith   Human Exceptionalism! Lawyer\, Award Winning Author\, international lecturer\, Senior Fellow at the Discovery Institute's Center on Human Exceptionalism\, and consultant to the Patients Rights Council. His most recent book is\, The War on Humans.\n\n\n\nAngela Erickson   Ideas into Action! Students for Life Northern Regional Coordinator.
X-ALT-DESC;FMTTYPE=text/html:&ldquo\;Keeping Our Focus&rdquo\;<br />\n43rd Annual SDRTL Convention<br />\n<br />\nGuest Speakers:<br />\nWesley J. Smith &ndash\; Human Exceptionalism! Lawyer\, Award Winning Author\, international lecturer\, Senior Fellow at the Discovery Institute&rsquo\;s Center on Human Exceptionalism\, and consultant to the Patients Rights Council. His most recent book is\, The War on Humans.<br />\n<br />\nAngela Erickson &ndash\; Ideas into Action! Students for Life Northern Regional Coordinator.<br />\n&nbsp\;
LOCATION:Mitchell Christian School\, 805 W. 18th Ave.\, Mitchell
UID:e.1624.1966
SEQUENCE:3
DTSTAMP:20260419T205258Z
URL:https://business.mitchellchamber.com/events/details/keeping-our-focus-09-12-2015-1966
END:VEVENT

END:VCALENDAR
