BEGIN:VCALENDAR
VERSION:2.0
PRODID:-//ChamberMaster//Event Calendar 2.0//EN
METHOD:PUBLISH
X-PUBLISHED-TTL:P3D
REFRESH-INTERVAL:P3D
CALSCALE:GREGORIAN
BEGIN:VEVENT
DTSTART:20180214T180000Z
DTEND:20180214T190000Z
X-MICROSOFT-CDO-ALLDAYEVENT:FALSE
SUMMARY:JVCC Valentine's Day Party
DESCRIPTION:Valentine's Day Party   Wednesday\, Feb. 14th @ Noon   Enjoy games & music with Maria & Kim - JVCC Members   No Fee\; Guests - $1 Daily Fee.
X-ALT-DESC;FMTTYPE=text/html:<strong><span style="color:red"><span style="font-family:calibri\,sans-serif">Valentine&rsquo\;s Day Party &ndash\; Wednesday\, Feb. 14<sup>th</sup> @ Noon &ndash\; Enjoy games &amp\; music with Maria &amp\; Kim - JVCC Members &ndash\; No Fee\; Guests - $1 Daily Fee.&nbsp\; &nbsp\;&nbsp\;</span></span></strong>
LOCATION:James Valley Community Center - 300 W 1st Ave\, Mitchell
UID:e.1624.11764
SEQUENCE:3
DTSTAMP:20260425T185636Z
URL:https://business.mitchellchamber.com/events/details/jvcc-valentine-s-day-party-11764
END:VEVENT

END:VCALENDAR
