BEGIN:VCALENDAR
VERSION:2.0
PRODID:-//ChamberMaster//Event Calendar 2.0//EN
METHOD:PUBLISH
X-PUBLISHED-TTL:P3D
REFRESH-INTERVAL:P3D
CALSCALE:GREGORIAN
BEGIN:VEVENT
DTSTART:20180425T170000Z
DTEND:20180425T180000Z
X-MICROSOFT-CDO-ALLDAYEVENT:FALSE
SUMMARY:JVCC Roadtrip Round-up
DESCRIPTION:Roadtrip Round-up   Wednesday\, April 25 @ Noon- Jen Johnston\, Executive Director of Mitchell Main Street & Beyond will share information about 1st Fridays on Main\, the new Walking Tour Brochure\, Downtown Renovation\, plus more.  This will follow the monthly Birthday & Anniversary Celebration which takes place at 11:15 am.
X-ALT-DESC;FMTTYPE=text/html:<strong><span style="color:red"><span style="font-family:calibri\,sans-serif"><span style="font-size:11.0pt">Roadtrip Round-up &ndash\; </span></span></span></strong><span style="color:red"><span style="font-family:calibri\,sans-serif"><span style="font-size:11.0pt">Wednesday\, April 25 @ Noon- Jen Johnston\, Executive Director of Mitchell Main Street &amp\; Beyond will share information about 1<sup>st</sup> Fridays on Main\, the new Walking Tour Brochure\, Downtown Renovation\, plus more.&nbsp\; This will follow the monthly Birthday &amp\; Anniversary Celebration which takes place at 11:15 am.&nbsp\; </span></span></span>
LOCATION:James Valley Community Center\, 300 W 1st - Mitchell
UID:e.1624.15020
SEQUENCE:3
DTSTAMP:20260425T160939Z
URL:https://business.mitchellchamber.com/events/details/jvcc-roadtrip-round-up-04-25-2018-15020
END:VEVENT

END:VCALENDAR
