BEGIN:VCALENDAR
VERSION:2.0
PRODID:-//ChamberMaster//Event Calendar 2.0//EN
METHOD:PUBLISH
X-PUBLISHED-TTL:P3D
REFRESH-INTERVAL:P3D
CALSCALE:GREGORIAN
BEGIN:VEVENT
DTSTART:20171025T170000Z
DTEND:20171025T180000Z
X-MICROSOFT-CDO-ALLDAYEVENT:FALSE
SUMMARY:JVCC Fall Fashion Show
DESCRIPTION:Fashion Show   Upscale Consignment Boutique brings gently used clothing to JVCC   Come enjoy the show & sale @ noon on Wed.\, Oct. 25th   JVCC Members: No Fee\, Public: $1   Get ready for the holidays!
X-ALT-DESC;FMTTYPE=text/html:<strong><span style="color:red"><span style="font-family:calibri\,sans-serif"><span style="font-size:12.0pt">Fashion Show &ndash\; Upscale Consignment Boutique brings gently used clothing to JVCC &ndash\; Come enjoy the show &amp\; sale @ noon on Wed.\, Oct. 25<sup>th</sup> &ndash\; JVCC Members: No Fee\, Public: $1 &ndash\; Get ready for the holidays!&nbsp\;&nbsp\;</span></span></span></strong>
LOCATION:James Valley Community Center\, 300 W 1st Ave - Mitchell
UID:e.1624.9138
SEQUENCE:3
DTSTAMP:20260426T013904Z
URL:https://business.mitchellchamber.com/events/details/jvcc-fall-fashion-show-9138
END:VEVENT

END:VCALENDAR
