BEGIN:VCALENDAR
VERSION:2.0
PRODID:-//ChamberMaster//Event Calendar 2.0//EN
METHOD:PUBLISH
X-PUBLISHED-TTL:P3D
REFRESH-INTERVAL:P3D
CALSCALE:GREGORIAN
BEGIN:VEVENT
DTSTART:20220918T193000Z
DTEND:20220918T220000Z
X-MICROSOFT-CDO-ALLDAYEVENT:FALSE
SUMMARY:JVCC Dance
DESCRIPTION:JVCC Dance   Sun.\, Sept. 18 with Roy King & The Rusty Buckets @ 3-5 PM\; Doors Open at 2:30 PM\; JVCC Members: $8.00 Guests: $10 - Includes Refreshments & Door Prizes - All Ages Welcome! JVCC\, 300 West 1st Ave   Thanks to Firesteel Healthcare Center for sponsoring! - Doug Bormann will perform Sun. Oct. 9th
X-ALT-DESC;FMTTYPE=text/html:JVCC Dance &ndash\; Sun.\, Sept. 18 with Roy King &amp\; The Rusty Buckets @ 3-5 PM\; Doors Open at 2:30 PM\; JVCC Members: $8.00 Guests: $10 - Includes Refreshments &amp\; Door Prizes - All Ages Welcome! JVCC\, 300 West 1st Ave &ndash\; Thanks to Firesteel Healthcare Center for sponsoring! - Doug Bormann will perform Sun. Oct. 9th
LOCATION:James Valley Community Center 300 W 1st Ave\, Mitchell
UID:e.1624.32692
SEQUENCE:3
DTSTAMP:20260421T183831Z
URL:https://business.mitchellchamber.com/events/details/jvcc-dance-32692
END:VEVENT

END:VCALENDAR
