BEGIN:VCALENDAR
VERSION:2.0
PRODID:-//ChamberMaster//Event Calendar 2.0//EN
METHOD:PUBLISH
X-PUBLISHED-TTL:P3D
REFRESH-INTERVAL:P3D
CALSCALE:GREGORIAN
BEGIN:VEVENT
DTSTART:20180428T150000Z
DTEND:20180428T170000Z
X-MICROSOFT-CDO-ALLDAYEVENT:FALSE
SUMMARY:Just Fur Fun- Kid's Day
DESCRIPTION:Stop on out to the Highland Mall for Just Fur Fun- Kid's Day!  Enjoy games\, face painting\, DIY photo frames\, pet pictures and walking tacos!  Over 20 raffle items have been donated by local business!\n\n\n\nAll proceeds will go to the Mitchell Animal Rescue.
X-ALT-DESC;FMTTYPE=text/html:Stop on out to the Highland Mall for Just Fur Fun- Kid&#39\;s Day!&nbsp\; Enjoy games\, face painting\, DIY photo frames\, pet pictures and walking tacos!&nbsp\; Over 20 raffle items have been donated by local business!<br />\n<br />\nAll proceeds will go to the Mitchell Animal Rescue.
LOCATION:Highland Mall
UID:e.1624.14991
SEQUENCE:3
DTSTAMP:20260425T161637Z
URL:https://business.mitchellchamber.com/events/details/just-fur-fun-kid-s-day-14991
END:VEVENT

END:VCALENDAR
