BEGIN:VCALENDAR
VERSION:2.0
PRODID:-//ChamberMaster//Event Calendar 2.0//EN
METHOD:PUBLISH
X-PUBLISHED-TTL:P3D
REFRESH-INTERVAL:P3D
CALSCALE:GREGORIAN
BEGIN:VEVENT
DTSTART:20200321T150000Z
DTEND:20200321T170000Z
X-MICROSOFT-CDO-ALLDAYEVENT:FALSE
SUMMARY:Junior Achievement Chicken Chase - POSTPONED TBD
DESCRIPTION:Junior Achievement's 1st Annual Chicken Chase 5k and 1 mile fun run will take place prior to Wingapalooza on Saturday\, March 21st beginning at the World's Only Corn Palace. Registration fee includes a t-shirt! \n\n\n\nRegistration begins at 9:00 am \n\nChase beings at 10:00 am
X-ALT-DESC;FMTTYPE=text/html:Junior Achievement&#39\;s 1st Annual Chicken Chase 5k and 1 mile fun run will take place prior to Wingapalooza on Saturday\, March 21st beginning at the World&#39\;s Only Corn Palace. Registration fee includes a t-shirt!&nbsp\;<br />\n<br />\nRegistration begins at 9:00 am&nbsp\;<br />\nChase beings at 10:00 am
LOCATION:603 N Main Street Mitchell\, SD 57301
UID:e.1624.27590
SEQUENCE:3
DTSTAMP:20260423T204701Z
URL:https://business.mitchellchamber.com/events/details/junior-achievement-chicken-chase-postponed-tbd-27590
END:VEVENT

END:VCALENDAR
