BEGIN:VCALENDAR
VERSION:2.0
PRODID:-//ChamberMaster//Event Calendar 2.0//EN
METHOD:PUBLISH
X-PUBLISHED-TTL:P3D
REFRESH-INTERVAL:P3D
CALSCALE:GREGORIAN
BEGIN:VEVENT
DTSTART:20230607T180000Z
DTEND:20230607T210000Z
X-MICROSOFT-CDO-ALLDAYEVENT:FALSE
SUMMARY:June Workforce Wednesday Hiring Event
DESCRIPTION:Mitchell Area Development Corporation (MADC) Regional Workforce\, in partnership with the Mitchell Department of Labor\, is holding a Workforce Wednesday Hiring Event at participating businesses in Mitchell. Trail King Industries*\, Twin City Fan\, Complete Career Center\, Enertech Global\, County Fair Food Stores\, Edgewood Memory Care\, Toshiba\, and Avera Queen of Peace Hospital  will open their doors to all job seekers. Visit one or more of these employers on June 7th\, 2023\, from 1:00-4:00 pm\, at their walk-in hiring event. Fill out an application and have the possibility for an on-the-spot interview. If you would like to have an immediate interview\, please fill out the application beforehand and bring it with you. \n\n\n\nThe Workforce Wednesday Hiring Event will occur every month on the 1st Wednesday. Check the Mitchell Chamber Development Facebook page each month or the digital display board across from the Corn Palace for a list of businesses opening their doors for walk-on-hiring opportunities on Workforce Wednesday. \n\n\n\n** Bilingual staff will be available at Trail King Industries.
X-ALT-DESC;FMTTYPE=text/html:Mitchell Area Development Corporation (MADC) Regional Workforce\, in partnership with the Mitchell Department of Labor\, is holding a Workforce Wednesday Hiring Event at participating businesses in Mitchell. Trail King Industries*\, Twin City Fan\, Complete Career Center\, Enertech Global\, County Fair Food Stores\, Edgewood Memory Care\, Toshiba\, and Avera Queen of Peace Hospital&nbsp\; will open their doors to all job seekers. Visit one or more of these employers on June 7th\, 2023\, from 1:00-4:00 pm\, at their walk-in hiring event. Fill out an application and have the possibility for an on-the-spot interview. If you would like to have an immediate interview\, please fill out the application beforehand and bring it with you.&nbsp\;<br />\n<br />\nThe Workforce Wednesday Hiring Event will occur every month on the 1st Wednesday. Check the Mitchell Chamber Development Facebook page each month or the digital display board across from the Corn Palace for a list of businesses opening their doors for walk-on-hiring opportunities on Workforce Wednesday.&nbsp\;<br />\n<br />\n** Bilingual staff will be available at Trail King Industries.&nbsp\;
LOCATION:Trail King Industries: 2200 S Ohlman Twin City Fan: 2201 N Ohlman St Complete Career Center: 218 East 1st Ave Suite A Enertech Global: 5751 Airport Rd County Fair Food Stores: 1305 W Havens Edgewood Memory Care: 2201 N. Wisconsin Toshiba: 901 Foster St Avera Queen of Peace Hospital: 525 North Foster St
UID:e.1624.34321
SEQUENCE:3
DTSTAMP:20260421T072304Z
URL:https://business.mitchellchamber.com/events/details/june-workforce-wednesday-hiring-event-34321
END:VEVENT

END:VCALENDAR
