BEGIN:VCALENDAR
VERSION:2.0
PRODID:-//ChamberMaster//Event Calendar 2.0//EN
METHOD:PUBLISH
X-PUBLISHED-TTL:P3D
REFRESH-INTERVAL:P3D
CALSCALE:GREGORIAN
BEGIN:VEVENT
DTSTART:20240220T173000Z
DTEND:20240220T190000Z
X-MICROSOFT-CDO-ALLDAYEVENT:FALSE
SUMMARY:Journey to Success: A Panel on Career Growth
DESCRIPTION:Journey to Success: A Panel on Career Growth is your opportunity to hear from local professional community leaders on how they got their start in the business world. These speakers will share their story on their journey in to their profession. Goals set\, challenges endured\, successes that helped them overcome and how they got to where they are today!\n\n\n\nJoin us on Tuesday\, Feb. 20 at Logan Luxury Theatres for this educational networking event! Doors will open at 11:30 a.m. and the panel discussion will begin at Noon\, finishing up by 1 p.m. Lunch will be provided by Jimmy John's for attendees. Chamber Member fee is $13 per person and the non-member fee is $15 per person. Pre-registration is required.\n\n\n\nPanel speakers are:\n\n	Bruce Haines\, Director of SD Soybean Research & Promotion Council \n	Jan Larson\, DWU Director of Marketing and Communication\n	Montana Walcott\, Local Entrepreneur and Co-Owner of Bullseyes & Birdies and Rowdy Ram Lounge & Casino\n\nThere will be time for a Q&A session after the speakers share their stories on their career growth.
X-ALT-DESC;FMTTYPE=text/html:Journey to Success: A Panel on Career Growth is your opportunity to hear from local professional community leaders on how they got their start in the business world. These speakers will share their story on their journey in to their profession. Goals set\, challenges endured\, successes that helped them overcome and how they got to where they are today!<br />\n<br />\nJoin us on Tuesday\, Feb. 20 at Logan Luxury Theatres for this educational networking event! Doors will open at 11:30 a.m. and the panel discussion will begin at Noon\, finishing up by 1 p.m. Lunch will be provided by Jimmy John&#39\;s for attendees. Chamber Member fee is $13 per person and the non-member fee is $15 per person. Pre-registration is required.<br />\n<br />\nPanel speakers are:\n<ul>\n	<li style="margin-left:0in\;"><strong>Bruce Haines</strong>\, Director of SD Soybean Research &amp\; Promotion Council&nbsp\;</li>\n	<li style="margin-left:0in\;"><strong>Jan Larson</strong>\, DWU Director of Marketing and Communication</li>\n	<li style="margin-left:0in\;"><strong>Montana Walcott</strong>\, Local Entrepreneur and Co-Owner of Bullseyes &amp\; Birdies and Rowdy Ram Lounge &amp\; Casino</li>\n</ul>\nThere will be time for a Q&amp\;A session after the speakers share their stories on their career growth.
LOCATION:Logan Luxury Theatres 209 N Lawler St Mitchell
UID:e.1624.35845
SEQUENCE:3
DTSTAMP:20260420T161036Z
URL:https://business.mitchellchamber.com/events/details/journey-to-success-a-panel-on-career-growth-35845
END:VEVENT

END:VCALENDAR
