BEGIN:VCALENDAR
VERSION:2.0
PRODID:-//ChamberMaster//Event Calendar 2.0//EN
METHOD:PUBLISH
X-PUBLISHED-TTL:P3D
REFRESH-INTERVAL:P3D
CALSCALE:GREGORIAN
BEGIN:VEVENT
DTSTART:20220422T000000Z
DTEND:20220422T020000Z
X-MICROSOFT-CDO-ALLDAYEVENT:FALSE
SUMMARY:John Paul II Spring Concert
DESCRIPTION:John Paul II Spring Concert
X-ALT-DESC;FMTTYPE=text/html:John Paul II Spring Concert
LOCATION:Mitchell High School Performing Arts Center Mitchell\, South Dakota
UID:e.1624.32486
SEQUENCE:3
DTSTAMP:20260422T032413Z
URL:https://business.mitchellchamber.com/events/details/john-paul-ii-spring-concert-32486
END:VEVENT

END:VCALENDAR
