BEGIN:VCALENDAR
VERSION:2.0
PRODID:-//ChamberMaster//Event Calendar 2.0//EN
METHOD:PUBLISH
X-PUBLISHED-TTL:P3D
REFRESH-INTERVAL:P3D
CALSCALE:GREGORIAN
BEGIN:VEVENT
DTSTART:20190202T230000Z
DTEND:20190203T040000Z
X-MICROSOFT-CDO-ALLDAYEVENT:FALSE
SUMMARY:James River Gobblers NWTF Annual Banquet
DESCRIPTION:James River Gobblers National Wild Turkey Federation Annual Banquet
X-ALT-DESC;FMTTYPE=text/html:James River Gobblers National Wild Turkey Federation Annual Banquet
LOCATION:Highland Conference Center 1920 Highland Way Mitchell\, SD 57301
UID:e.1624.19725
SEQUENCE:3
DTSTAMP:20260424T224626Z
URL:https://business.mitchellchamber.com/events/details/james-river-gobblers-nwtf-annual-banquet-02-02-2019-19725
END:VEVENT

END:VCALENDAR
