BEGIN:VCALENDAR
VERSION:2.0
PRODID:-//ChamberMaster//Event Calendar 2.0//EN
METHOD:PUBLISH
X-PUBLISHED-TTL:P3D
REFRESH-INTERVAL:P3D
CALSCALE:GREGORIAN
BEGIN:VEVENT
DTSTART:20200315T023000Z
DTEND:20200315T045500Z
X-MICROSOFT-CDO-ALLDAYEVENT:FALSE
SUMMARY:Jade Monkey - 3rd Annual St. Patty's Bash
DESCRIPTION:
X-ALT-DESC;FMTTYPE=text/html:
LOCATION:Thirsty's 1500 N Duff St Mitchell
UID:e.1624.27747
SEQUENCE:3
DTSTAMP:20260423T204449Z
URL:https://business.mitchellchamber.com/events/details/jade-monkey-3rd-annual-st-patty-s-bash-27747
END:VEVENT

END:VCALENDAR
