BEGIN:VCALENDAR
VERSION:2.0
PRODID:-//ChamberMaster//Event Calendar 2.0//EN
METHOD:PUBLISH
X-PUBLISHED-TTL:P3D
REFRESH-INTERVAL:P3D
CALSCALE:GREGORIAN
BEGIN:VEVENT
DTSTART:20190224T010000Z
DTEND:20190224T023000Z
X-MICROSOFT-CDO-ALLDAYEVENT:FALSE
SUMMARY:J. Laiten Weed Honors Orchestra Concert
DESCRIPTION:The orchestra is comprised of twenty-two high-school string students who achieved the highest audition scores for the South Dakota All-State Orchestra. They begin preparing music individually in December and begin rehearsing as a group on the Thursday evening before the concert. An intense two days of rehearsal with an exceptional guest clinician follows. All of this culminates in a performance that invariably proves to be polished\, refined and exhilarating.
X-ALT-DESC;FMTTYPE=text/html:The orchestra is comprised of twenty-two high-school string students who achieved the highest audition scores for the South Dakota All-State Orchestra. They begin preparing music individually in December and begin rehearsing as a group on the Thursday evening before the concert. An intense two days of rehearsal with an exceptional guest clinician follows. All of this culminates in a performance that invariably proves to be polished\, refined and exhilarating.
LOCATION:Mitchell Performing Arts Center
UID:e.1624.23239
SEQUENCE:3
DTSTAMP:20260424T224627Z
URL:https://business.mitchellchamber.com/events/details/j-laiten-weed-honors-orchestra-concert-23239
END:VEVENT

END:VCALENDAR
