BEGIN:VCALENDAR
VERSION:2.0
PRODID:-//ChamberMaster//Event Calendar 2.0//EN
METHOD:PUBLISH
X-PUBLISHED-TTL:P3D
REFRESH-INTERVAL:P3D
CALSCALE:GREGORIAN
BEGIN:VEVENT
DTSTART:20220727T220000Z
DTEND:20220727T233000Z
X-MICROSOFT-CDO-ALLDAYEVENT:FALSE
SUMMARY:Information Meeting on Lake Mitchell
DESCRIPTION:The Forward 2040/Enhance Mitchell Task Force will host an information meeting for the community at Lake Mitchell Day Camp (1200 Indian Village Road\, capacity 110) on Wednesday\, July 27\, 2022 starting at 5 p.m. The purpose of the meeting is to inform the Mitchell community of the planning and progress of Lake Mitchell cleanup.\n\n\n\nRefreshments will be provided. The meeting is open to the community and citizens are encouraged to attend.
X-ALT-DESC;FMTTYPE=text/html:The Forward 2040/Enhance Mitchell Task Force will host an information meeting for the community at Lake Mitchell Day Camp (1200 Indian Village Road\, capacity 110) on Wednesday\, July 27\, 2022 starting at 5 p.m. The purpose of the meeting is to inform the Mitchell community of the planning and progress of Lake Mitchell cleanup.<br />\n<br />\nRefreshments will be provided. The meeting is open to the community and citizens are encouraged to attend.
LOCATION:Lake Mitchell Day Camp 1200 Indian Village Road
UID:e.1624.32662
SEQUENCE:3
DTSTAMP:20260421T221028Z
URL:https://business.mitchellchamber.com/events/details/information-meeting-on-lake-mitchell-32662
END:VEVENT

END:VCALENDAR
