BEGIN:VCALENDAR
VERSION:2.0
PRODID:-//ChamberMaster//Event Calendar 2.0//EN
METHOD:PUBLISH
X-PUBLISHED-TTL:P3D
REFRESH-INTERVAL:P3D
CALSCALE:GREGORIAN
BEGIN:VEVENT
DTSTART:20180625T150000Z
DTEND:20180626T020000Z
X-MICROSOFT-CDO-ALLDAYEVENT:FALSE
SUMMARY:Indoor Aquatic Center Opening Day
DESCRIPTION:The City of Mitchell Parks and Recreation Department announces the opening day of the new Indoor Aquatic Center on June 25th.  The new Indoor Aquatic Center will be open to the public with their regular entrance fee and membership requirement on June 25th.  On July 3rd at 10 am the Parks and Recreation Department will offer a free grand opening ceremony and public viewing of the new facility.  July 3rd will be the last day for the 25% membership discount. \n\n\n\nBe sure to get your annual membership today\, good for one year.  A schedule of events for the Grand Opening Ceremony will be released soon.
X-ALT-DESC;FMTTYPE=text/html:The City of Mitchell Parks and Recreation Department announces the opening day of the new Indoor Aquatic Center on June 25th.&nbsp\; The new Indoor Aquatic Center will be open to the public with their regular&nbsp\;entrance fee and membership requirement on June 25th.&nbsp\; On July 3rd at 10 am the Parks and Recreation Department will offer a free grand opening ceremony and public viewing of the new facility.&nbsp\; July 3rd will be the last day for the 25% membership discount.&nbsp\;<br />\n<br />\nBe sure to get your annual membership today\, good for one year.&nbsp\; A schedule of events for the Grand Opening Ceremony will be released soon.&nbsp\;&nbsp\;
LOCATION:Mitchell Indoor Aquatic Center 1300 N Main St Mitchell\, SD 57301
UID:e.1624.15773
SEQUENCE:3
DTSTAMP:20260425T124930Z
URL:https://business.mitchellchamber.com/events/details/indoor-aquatic-center-opening-day-15773
END:VEVENT

END:VCALENDAR
