BEGIN:VCALENDAR
VERSION:2.0
PRODID:-//ChamberMaster//Event Calendar 2.0//EN
METHOD:PUBLISH
X-PUBLISHED-TTL:P3D
REFRESH-INTERVAL:P3D
CALSCALE:GREGORIAN
BEGIN:VEVENT
DTSTART:20171017T160000Z
DTEND:20171017T180000Z
X-MICROSOFT-CDO-ALLDAYEVENT:FALSE
SUMMARY:"Inclusion Drives Innovation" October is: National Disability Employment Awareness Month
DESCRIPTION:Please come join MACPD (Mitchell Advisory Counsel for People with Disabilities) in celebrating the NDEAM with the Cal Shultz Memorial Luncheon. This year we have two excellent speakers Kimberly Hoberg and Vicki Kerkvliet who will give a brief overview of what they do and present on Disability Etiquette. You will see who this year's award winners are. MACPD awards one employer that promotes the hiring of people with Disabilities and one Employee with a disability that has made exceptional contributions their employer.
X-ALT-DESC;FMTTYPE=text/html:Please come join MACPD (Mitchell Advisory Counsel for People with Disabilities) in celebrating the NDEAM with the Cal Shultz Memorial Luncheon. This year we have two excellent speakers Kimberly Hoberg and Vicki Kerkvliet who will give a brief overview of what they do and present on Disability Etiquette. You will see who this year&rsquo\;s award winners are. MACPD awards one employer that promotes the hiring of people with Disabilities and one Employee with a disability that has made exceptional contributions their employer.
LOCATION:County Fair Banquet Hall Mitchell\, SD
UID:e.1624.9109
SEQUENCE:3
DTSTAMP:20260426T014226Z
URL:https://business.mitchellchamber.com/events/details/inclusion-drives-innovation-october-is-national-disability-employment-awareness-month-9109
END:VEVENT

END:VCALENDAR
