BEGIN:VCALENDAR
VERSION:2.0
PRODID:-//ChamberMaster//Event Calendar 2.0//EN
METHOD:PUBLISH
X-PUBLISHED-TTL:P3D
REFRESH-INTERVAL:P3D
CALSCALE:GREGORIAN
BEGIN:VEVENT
DTSTART:20250211T010000Z
DTEND:20250211T020000Z
X-MICROSOFT-CDO-ALLDAYEVENT:FALSE
SUMMARY:Immigration and Deportation: A Panel Discussion
DESCRIPTION:Panels will be:\n\n*Benjamin Ready: Regional Director of the office of Sen. John Thune\n\n*Mary Hogan: Community Relations Officer for ICE\n\n*John Hakari: Immigration Attorney\n\nThe event will be held in the School of Business\, Innovation and Leadership (our new business building) at DWU. It will also be viewable online at www.dwu.edu/live .
X-ALT-DESC;FMTTYPE=text/html:<div>Panels will be:<br />\n*Benjamin Ready: Regional Director of the office of Sen. John Thune<br />\n*Mary Hogan: Community Relations Officer for ICE<br />\n*John Hakari: Immigration Attorney</div>\n\n<div>The event will be held in the School of Business\, Innovation and Leadership (our new business building) at DWU. It will also be viewable online at&nbsp\;<a attributionsrc="/privacy_sandbox/comet/register/source/?xt=AZXEQuM4SgGddBsRuGvJGxAHUCmvnTmC0SrltOdo3RE2x42k_XJm20m71DPCTVkUihnGsQbh1wW3-Wp7fOW10b6j1_qlsc74pqOcTrCSlvLWaSeoCC7FzDc5Owd4R7dAXiyK3COjwd3Vk7e3xYRFXY18qi9Zb4VKHSQU7mQCC9dt4ohlYSwSdDhflDC1bcP5mHIKWbHx1E2cvrw0ixjqSTgljxVVhrPFsyWnNJi70lTjbb9m4R-Q8HZEMDno0bdHdy4okc09Qs4AtlfBoN6yDhQjM2n-7Xn6f-BRfmHY7_yUcpUxx4npO0muUokJl8SxgyzI1VPKtdFqZmcoFELiecSh2ZZ_dS0LGYkg9otj_QvO4-VgYI3kKhD5-23WGmwfDDGVmLSBYEUEyjtiLwamtWw9eAyrgYT--SoV1_rZNaOwRrhAEQg8Du87I_ouVdm58n2Was30J9ZnpuY9XN114h694g947Z7UiRljzJrQZHA-0DarXkkyjsPHtzQfImWvGFvH4fXbYHZdSvVNuoQ_sbuEs5q_XLE7ivAXu0ydP1Oc3RoudhHycN3Zoov0xfOB-wI_Smv1PqZgXkLTC2msLX9XS_cNMGcnEtYkMDTuv3Jvzxtu7241byHM6ruSq7eBgbXGXzqywdkZZbZ5Owi8kh7_f9cJhKc87inyviwDfAqBDoJ6xuKJMvSESpsZyh2avn20O_-0bI4F2GmFz-c5O5W9-gjpJCFES1BfNgUMRI4PMknBb025UjiQbKIx-MR01eh0ecaTndsYk9KI2lJL9SPRI96SN1PuJRlzgh1UhJyCEzf-cuIxY_GzCNb2Gm84YCybqopp897-KYho-uWaQbzsyq4eslmYtK4bjMmwZKYNMA" href="http://www.dwu.edu/live?fbclid=IwZXh0bgNhZW0CMTAAAR1xCxyXGPeaQmAQYT1HkD5UOOi1mo6eGJnnCGmeGj3BK8_IrbWCa67c_BE_aem_RVu8EGDDVea4Rpqdq2Qshg" rel="nofollow noreferrer" role="link" tabindex="0" target="_blank">www.dwu.edu/live</a>&nbsp\;.</div>\n
LOCATION:DWU Schools of Business\, Innovation\, and Leadership 1200 W. University Ave Mitchell\, SD 57301
UID:e.1624.39397
SEQUENCE:3
DTSTAMP:20260421T113606Z
URL:https://business.mitchellchamber.com/events/details/immigration-and-deportation-a-panel-discussion-39397
END:VEVENT

END:VCALENDAR
