BEGIN:VCALENDAR
VERSION:2.0
PRODID:-//ChamberMaster//Event Calendar 2.0//EN
METHOD:PUBLISH
X-PUBLISHED-TTL:P3D
REFRESH-INTERVAL:P3D
CALSCALE:GREGORIAN
BEGIN:VEVENT
DTSTART:20221015T120000Z
DTEND:20221015T160000Z
X-MICROSOFT-CDO-ALLDAYEVENT:FALSE
SUMMARY:Hunters Breakfast at the Congregational UCC
DESCRIPTION:The Congregational United Church of Christ is again hosting a Hunters' Breakfast!  All are welcome!
X-ALT-DESC;FMTTYPE=text/html:The Congregational United Church of Christ is again hosting a Hunters&#39\; Breakfast!&nbsp\; All are welcome!
LOCATION:301 E. 4th Mitchell\, SD
UID:e.1624.32867
SEQUENCE:3
DTSTAMP:20260421T170404Z
URL:https://business.mitchellchamber.com/events/details/hunters-breakfast-at-the-congregational-ucc-32867
END:VEVENT

END:VCALENDAR
