BEGIN:VCALENDAR
VERSION:2.0
PRODID:-//ChamberMaster//Event Calendar 2.0//EN
METHOD:PUBLISH
X-PUBLISHED-TTL:P3D
REFRESH-INTERVAL:P3D
CALSCALE:GREGORIAN
BEGIN:VEVENT
DTSTART:20170907T170000Z
DTEND:20170907T180000Z
X-MICROSOFT-CDO-ALLDAYEVENT:FALSE
SUMMARY:"How to" Session: Performance Reviews- Networking Luncheon
DESCRIPTION:Molly Sutton\, Foundation Director at Avera and member of Toastmasters\, will guide you on what you need to know about giving and receiving Performance Reviews.
X-ALT-DESC;FMTTYPE=text/html:<span style="color:black\;"><span style="font-family:arial\,sans-serif\;"><span style="font-size:12.0pt\;">Molly Sutton\, Foundation Director at Avera and member of Toastmasters\, will&nbsp\;guide&nbsp\;you on what you need to know about giving and&nbsp\;receiving Performance Reviews.</span></span></span><br />\n&nbsp\;
LOCATION:The Lake House
UID:e.1624.8811
SEQUENCE:3
DTSTAMP:20260426T032957Z
URL:https://business.mitchellchamber.com/events/details/how-to-session-performance-reviews-networking-luncheon-8811
END:VEVENT

END:VCALENDAR
