BEGIN:VCALENDAR
VERSION:2.0
PRODID:-//ChamberMaster//Event Calendar 2.0//EN
METHOD:PUBLISH
X-PUBLISHED-TTL:P3D
REFRESH-INTERVAL:P3D
CALSCALE:GREGORIAN
BEGIN:VEVENT
DTSTART:20181227T160000Z
DTEND:20181230T230000Z
X-MICROSOFT-CDO-ALLDAYEVENT:FALSE
SUMMARY:Hoop City Classic
DESCRIPTION:http://cornpalace.com/calendar.aspx?EID=269
X-ALT-DESC;FMTTYPE=text/html: http://cornpalace.com/calendar.aspx?EID=269
LOCATION:The World's Only Corn Palace - 604 N Main St Mitchell SD 57301
UID:e.1624.21380
SEQUENCE:3
DTSTAMP:20260424T203418Z
URL:https://business.mitchellchamber.com/events/details/hoop-city-classic-12-27-2018-21380
END:VEVENT

END:VCALENDAR
