BEGIN:VCALENDAR
VERSION:2.0
PRODID:-//ChamberMaster//Event Calendar 2.0//EN
METHOD:PUBLISH
X-PUBLISHED-TTL:P3D
REFRESH-INTERVAL:P3D
CALSCALE:GREGORIAN
BEGIN:VEVENT
DTSTART:20171203T190000Z
DTEND:20171203T230000Z
X-MICROSOFT-CDO-ALLDAYEVENT:FALSE
SUMMARY:Holly Jolly Holiday Expo
DESCRIPTION:Holly Jolly Holiday Expo will take place Dec. 3rd from 1-5 @ the Ethan legion. Shop various local vendors. The kids can decorate cookies and complete a coloring contest throughout the day. Santa will be visiting from 4-5. Hope to see you there!
X-ALT-DESC;FMTTYPE=text/html:Holly Jolly Holiday Expo will take place Dec. 3rd from 1-5 @ the Ethan legion. Shop various local vendors. The kids can decorate cookies and complete a coloring contest throughout the day. Santa will be visiting from 4-5. Hope to see you there!
LOCATION:Ethan American Legion
UID:e.1624.9191
SEQUENCE:3
DTSTAMP:20260425T221258Z
URL:https://business.mitchellchamber.com/events/details/holly-jolly-holiday-expo-9191
END:VEVENT

END:VCALENDAR
