BEGIN:VCALENDAR
VERSION:2.0
PRODID:-//ChamberMaster//Event Calendar 2.0//EN
METHOD:PUBLISH
X-PUBLISHED-TTL:P3D
REFRESH-INTERVAL:P3D
CALSCALE:GREGORIAN
BEGIN:VEVENT
DTSTART:20171202T010000Z
DTEND:20171202T040000Z
X-MICROSOFT-CDO-ALLDAYEVENT:FALSE
SUMMARY:Holiday Spirit- Proceeds Benefit Mitchell Area Safehouse
DESCRIPTION:Save the Date for a fun holiday event that benefits the Mitchell Area Safehouse. Holiday Spirit is being held December 1st starting at 7pm at the Highland Mall. \n\nIt will include silent auctions and raffles of decorated trees\, wreaths & more. Enjoy wine\, beer\, meat and cheese tasting and music.\n\nFor more information follow us on Facebook and at this event to your calendar.
X-ALT-DESC;FMTTYPE=text/html:<span style="background-color:rgb(255\, 255\, 255)\; color:rgb(29\, 33\, 41)\; font-family:helvetica\,arial\,sans-serif\; font-size:14px">Save the Date for a fun holiday event that benefits the Mitchell Area Safehouse. Holiday Spirit is being held December 1st starting at 7pm at the Highland Mall.&nbsp\;</span><br />\n<span style="background-color:rgb(255\, 255\, 255)\; color:rgb(29\, 33\, 41)\; font-family:helvetica\,arial\,sans-serif\; font-size:14px">It will include silent auctions and raffles of decorated trees\, wreaths &amp\; more. Enjoy wine\, beer\, meat and cheese tasting and music.</span><br />\n<span style="background-color:rgb(255\, 255\, 255)\; color:rgb(29\, 33\, 41)\; font-family:helvetica\,arial\,sans-serif\; font-size:14px">For more information follow us on Facebook and at this event to your calendar.</span>
LOCATION:Highland Mall
UID:e.1624.8830
SEQUENCE:3
DTSTAMP:20260425T221329Z
URL:https://business.mitchellchamber.com/events/details/holiday-spirit-proceeds-benefit-mitchell-area-safehouse-8830
END:VEVENT

END:VCALENDAR
