BEGIN:VCALENDAR
VERSION:2.0
PRODID:-//ChamberMaster//Event Calendar 2.0//EN
METHOD:PUBLISH
X-PUBLISHED-TTL:P3D
REFRESH-INTERVAL:P3D
CALSCALE:GREGORIAN
BEGIN:VEVENT
DTSTART:20181201T010000Z
DTEND:20181201T040000Z
X-MICROSOFT-CDO-ALLDAYEVENT:FALSE
SUMMARY:Holiday Spirit- Proceeds Benefit Mitchell Area Safehouse
DESCRIPTION:Save the Date for a fun holiday event that benefits the Mitchell Area Safehouse. Holiday Spirit is being held December 1st starting at 7pm at the Highland Mall. \n\nIt will include silent auctions and raffles of decorated trees\, wreaths & more. Enjoy wine\, beer\, meat and cheese tasting\, dessert and music.
X-ALT-DESC;FMTTYPE=text/html:<span style="background-color:rgb(255\, 255\, 255)\; color:rgb(29\, 33\, 41)\; font-family:helvetica\,arial\,sans-serif\; font-size:14px">Save the Date for a fun holiday event that benefits the Mitchell Area Safehouse. Holiday Spirit is being held December 1st starting at 7pm at the Highland Mall.&nbsp\;</span><br />\n<span style="background-color:rgb(255\, 255\, 255)\; color:rgb(29\, 33\, 41)\; font-family:helvetica\,arial\,sans-serif\; font-size:14px">It will include silent auctions and raffles of decorated trees\, wreaths &amp\; more. Enjoy wine\, beer\, meat and cheese tasting\, dessert and music.</span><br />\n&nbsp\;
LOCATION:Highland Mall
UID:e.1624.19350
SEQUENCE:3
DTSTAMP:20260425T040401Z
URL:https://business.mitchellchamber.com/events/details/holiday-spirit-proceeds-benefit-mitchell-area-safehouse-19350
END:VEVENT

END:VCALENDAR
