BEGIN:VCALENDAR
VERSION:2.0
PRODID:-//ChamberMaster//Event Calendar 2.0//EN
METHOD:PUBLISH
X-PUBLISHED-TTL:P3D
REFRESH-INTERVAL:P3D
CALSCALE:GREGORIAN
BEGIN:VEVENT
DTSTART:20221029T150000Z
DTEND:20221029T200000Z
X-MICROSOFT-CDO-ALLDAYEVENT:FALSE
SUMMARY:Holiday Shopping Extravaganza
DESCRIPTION:
X-ALT-DESC;FMTTYPE=text/html:
LOCATION:Davison County Fairgrounds-1.5 miles west of the Ramada 40698 W Havens Ave\, Mitchell\, SD 57301
UID:e.1624.32896
SEQUENCE:3
DTSTAMP:20260421T170305Z
URL:https://business.mitchellchamber.com/events/details/holiday-shopping-extravaganza-32896
END:VEVENT

END:VCALENDAR
