BEGIN:VCALENDAR
VERSION:2.0
PRODID:-//ChamberMaster//Event Calendar 2.0//EN
METHOD:PUBLISH
X-PUBLISHED-TTL:P3D
REFRESH-INTERVAL:P3D
CALSCALE:GREGORIAN
BEGIN:VEVENT
DTSTART:20181209T170000Z
DTEND:20181209T220000Z
X-MICROSOFT-CDO-ALLDAYEVENT:FALSE
SUMMARY:Holiday Pop Up at the Highland
DESCRIPTION:Shop this holiday season from boutiques\, decor and more! Wine and Mimosas for purchase too!
X-ALT-DESC;FMTTYPE=text/html:Shop this holiday season from boutiques\, decor and more! Wine and Mimosas for purchase too!
LOCATION:Highland Conference Center
UID:e.1624.19652
SEQUENCE:3
DTSTAMP:20260424T203222Z
URL:https://business.mitchellchamber.com/events/details/holiday-pop-up-at-the-highland-19652
END:VEVENT

END:VCALENDAR
