BEGIN:VCALENDAR
VERSION:2.0
PRODID:-//ChamberMaster//Event Calendar 2.0//EN
METHOD:PUBLISH
X-PUBLISHED-TTL:P3D
REFRESH-INTERVAL:P3D
CALSCALE:GREGORIAN
BEGIN:VEVENT
DTSTART:20181212T013000Z
DTEND:20181212T033000Z
X-MICROSOFT-CDO-ALLDAYEVENT:FALSE
SUMMARY:Holiday Jam with the Hegg Brothers
DESCRIPTION:This musical showcase features the talents of a multi-piece band playing Christmas classics and contemporary arrangements in signature and soulful sounds of Jeremy and Jon Hegg and friends. This two-hour show features stories of the season\, messages for the heart\, and music to lift the spirits.
X-ALT-DESC;FMTTYPE=text/html:This musical showcase features the talents of a multi-piece band playing Christmas classics and contemporary arrangements in signature and soulful sounds of Jeremy and Jon Hegg and friends. This two-hour show features stories of the season\, messages for the heart\, and music to lift the spirits.
LOCATION:Mitchell HighSchool Performing Arts Center
UID:e.1624.19142
SEQUENCE:3
DTSTAMP:20260424T201951Z
URL:https://business.mitchellchamber.com/events/details/holiday-jam-with-the-hegg-brothers-19142
END:VEVENT

END:VCALENDAR
