BEGIN:VCALENDAR
VERSION:2.0
PRODID:-//ChamberMaster//Event Calendar 2.0//EN
METHOD:PUBLISH
X-PUBLISHED-TTL:P3D
REFRESH-INTERVAL:P3D
CALSCALE:GREGORIAN
BEGIN:VEVENT
DTSTART:20181116T150000Z
DTEND:20181117T010000Z
X-MICROSOFT-CDO-ALLDAYEVENT:FALSE
SUMMARY:Holiday Arts Christmas Craft Show
DESCRIPTION:
X-ALT-DESC;FMTTYPE=text/html:
LOCATION:Masonic Temple\, 112 E 5th\, Mitchell\, SD
UID:e.1624.15380
SEQUENCE:3
DTSTAMP:20260425T040144Z
URL:https://business.mitchellchamber.com/events/details/holiday-arts-christmas-craft-show-15380
END:VEVENT

END:VCALENDAR
