BEGIN:VCALENDAR
VERSION:2.0
PRODID:-//ChamberMaster//Event Calendar 2.0//EN
METHOD:PUBLISH
X-PUBLISHED-TTL:P3D
REFRESH-INTERVAL:P3D
CALSCALE:GREGORIAN
BEGIN:VEVENT
DTSTART;VALUE=DATE:20220813
DTEND;VALUE=DATE:20220814
TRANSP:TRANSPARENT
X-MICROSOFT-CDO-ALLDAYEVENT:TRUE
SUMMARY:High Plains Territorial Cowboy Fast Draw Championship
DESCRIPTION:WEAR RED DAY FOR THOSE WHO HAVE SERVED OR ARE SERVING IN THE UNITED STATES MILITARY.\n\n\n\n7:30 a.m. - Gun & Holster Check (for those not checked previously.)\n\n8:00 a.m.   Shooters' Meeting at Range\n\n8:30 a.m.   High Plains Territorial Main Match Continues & 2nd Chance Shoot Begins\n\n At conclusion of last round\, awards will be presented for finished placings.
X-ALT-DESC;FMTTYPE=text/html:<strong><span style="color:#FF0000\;">WEAR RED DAY FOR THOSE WHO HAVE SERVED OR ARE SERVING IN THE UNITED STATES MILITARY.</span></strong><br />\n<br />\n7:30 a.m. - Gun &amp\; Holster Check (for those not checked previously.)<br />\n8:00 a.m. &ndash\; Shooters&rsquo\; Meeting at Range<br />\n8:30 a.m. &ndash\; High Plains Territorial Main Match Continues &amp\; 2nd Chance Shoot Begins<br />\n&nbsp\;At conclusion of last round\, awards will be presented for finished placings.&nbsp\;<br />\n&nbsp\;
LOCATION:Davison County Gun Club 3260 W. Havens Ave. Mitchell\, South Dakota
UID:e.1624.32503
SEQUENCE:3
DTSTAMP:20260421T213838Z
URL:https://business.mitchellchamber.com/events/details/high-plains-territorial-cowboy-fast-draw-championship-32503
END:VEVENT

END:VCALENDAR
