BEGIN:VCALENDAR
VERSION:2.0
PRODID:-//ChamberMaster//Event Calendar 2.0//EN
METHOD:PUBLISH
X-PUBLISHED-TTL:P3D
REFRESH-INTERVAL:P3D
CALSCALE:GREGORIAN
BEGIN:VEVENT
DTSTART:20220611T150000Z
DTEND:20220611T180000Z
X-MICROSOFT-CDO-ALLDAYEVENT:FALSE
SUMMARY:Here Comes Summer Celebration
DESCRIPTION:There's no better place to kick off the summer than at 1920 N Sanborn!\n\n- 20% off your Two Dreams purchase\n\n- Lunch special with Fika\n\n- New Summer Smoothie flavors\n\n- Pop up vendors including some of your favorite local businesses!\n\nStop by for a good time\, great food\, & excellent shopping?
X-ALT-DESC;FMTTYPE=text/html:There&rsquo\;s no better place to kick off the summer than at 1920 N Sanborn!<br />\n- 20% off your Two Dreams purchase<br />\n- Lunch special with Fika<br />\n- New Summer Smoothie flavors<br />\n- Pop up vendors including some of your favorite local businesses!<br />\nStop by for a good time\, great food\, &amp\; excellent shopping?
LOCATION:Two Dreams Boutique 1920 N. Sanborn Blvd. Mitchell\, South Dakota
UID:e.1624.32618
SEQUENCE:3
DTSTAMP:20260421T234659Z
URL:https://business.mitchellchamber.com/events/details/here-comes-summer-celebration-32618
END:VEVENT

END:VCALENDAR
